BEGIN:VCALENDAR
VERSION:2.0
PRODID:-//hacksw/handcal//NONSGML v1.0//EN
BEGIN:VEVENT
SUMMARY:Pas de cours de judo
UID:122f7c33-137f-429f-8eda-fd2932e1125a
DTSTART:20260403T153000Z
DTEND:20260403T200000Z
LOCATION:Localisation   
CATEGORIES:Sportif
STATUS:
URL;VALUE=URI:https://www.dojobrezollien.fr/evenements/2026/04/03/pas-de-cours-de-judo-2437834
END:VEVENT
END:VCALENDAR
